BEGIN:VCALENDAR
VERSION:2.0
PRODID:-//Hopsmith Tavern - Chicago - ECPv6.15.20//NONSGML v1.0//EN
CALSCALE:GREGORIAN
METHOD:PUBLISH
X-WR-CALNAME:Hopsmith Tavern - Chicago
X-ORIGINAL-URL:https://hopsmithchicago.com
X-WR-CALDESC:Events for Hopsmith Tavern - Chicago
REFRESH-INTERVAL;VALUE=DURATION:PT1H
X-Robots-Tag:noindex
X-PUBLISHED-TTL:PT1H
BEGIN:VTIMEZONE
TZID:America/Chicago
BEGIN:DAYLIGHT
TZOFFSETFROM:-0600
TZOFFSETTO:-0500
TZNAME:CDT
DTSTART:20250309T080000
END:DAYLIGHT
BEGIN:STANDARD
TZOFFSETFROM:-0500
TZOFFSETTO:-0600
TZNAME:CST
DTSTART:20251102T070000
END:STANDARD
BEGIN:DAYLIGHT
TZOFFSETFROM:-0600
TZOFFSETTO:-0500
TZNAME:CDT
DTSTART:20260308T080000
END:DAYLIGHT
BEGIN:STANDARD
TZOFFSETFROM:-0500
TZOFFSETTO:-0600
TZNAME:CST
DTSTART:20261101T070000
END:STANDARD
BEGIN:DAYLIGHT
TZOFFSETFROM:-0600
TZOFFSETTO:-0500
TZNAME:CDT
DTSTART:20270314T080000
END:DAYLIGHT
BEGIN:STANDARD
TZOFFSETFROM:-0500
TZOFFSETTO:-0600
TZNAME:CST
DTSTART:20271107T070000
END:STANDARD
END:VTIMEZONE
BEGIN:VEVENT
DTSTART;TZID=America/Chicago:20260314T080000
DTEND;TZID=America/Chicago:20260314T233000
DTSTAMP:20260419T224703
CREATED:20260126T223104Z
LAST-MODIFIED:20260204T184507Z
UID:10006707-1773475200-1773531000@hopsmithchicago.com
SUMMARY:Chicago St. Patrick's Day
DESCRIPTION:Get Tickets\n\n\n\nVenue\n\n\n\nFood\n\n\n\n\nHopsmith is the preeminent spot to “Get Your Green On” for St. Paddy’s Day!\n\n\n\nMultiple floors of day drinking. Fiddles turning into bass drops. Guinness flowing like someone forgot how to tap “slow.” Green drinks everywhere\, questionable decisions piling up faster than shamrocks on a parade float. Sunlight pours through the skylight lounge and floor-to-ceiling windows so everyone outside can physically see how badly they fumbled St. Patrick’s Day. \n\n\n\nYour ticket includes: General Admission\, Party Antics\, Music\, and Open Bar from 8AM to 12PM including Call Liquors\, Domestic Beer\, Jameson Drinks\, Irish Stout\, and Appetizers. \n\n\n\nTiming: Doors open at 8:00AM. Celebration package concludes at noon. Open to the public (non-ticket holders) after 12PM and we have a late-night license so we don’t close until 5:00AM. \n\n\n\nGroups & tables: Optional table packages are available for larger parties\, but they’re in addition to tickets. Every guest must also purchase a General Admission ticket to enter. \n\n\n\nEarly bird tickets are available at a discount for a limited time. Lock it in online! For any questions about this event or tables and group accommodations\, email Chris or reach him at 312-579-3636. \n\n\n\n\nGet Tickets\n\n\n\n\n\n\n\n\nVenue Shots\n\n\n\n\n\n			\n				\n			\n		\n\n\n\n\n			\n				\n			\n		\n\n\n\n\n			\n				\n			\n		\n\n\n\n\n			\n				\n			\n		\n\n\n\n\n			\n				\n			\n		\n\n\n\n\n			\n				\n			\n		\n\n\n\n\n			\n				\n			\n		\n\n\n\n\n			\n				\n			\n		\n\n\n\n\n			\n				\n			\n		\n\n\n\n\n			\n				\n			\n		\n\n\n\n\n			\n				\n			\n		\n\n\n\n\n			\n				\n			\n		\n\n\n\n\n			\n				\n			\n		\n\n\n\n\n			\n				\n			\n		\n\n\n\n\n			\n				\n			\n		\n\n\n\n\n			\n				\n			\n		\n\n\n\n\n			\n				\n			\n		\n\n\n\n\n			\n				\n			\n		\n\n\n\n\n			\n				\n			\n		\n\n\n\n\n			\n				\n			\n		\n\n\n\n\n			\n				\n			\n		\n\n\n\n\n\n\n\n\nFood Shots
URL:https://hopsmithchicago.com/event/st-patricks-chicago/
ATTACH;FMTTYPE=image/jpeg:https://hopsmithchicago.com/wp-content/uploads/sites/5/2026/01/Hopchi-St-Pats-2026-1200-x-1200.jpg
END:VEVENT
BEGIN:VEVENT
DTSTART;TZID=America/Chicago:20260314T210000
DTEND;TZID=America/Chicago:20260314T233000
DTSTAMP:20260419T224703
CREATED:20251101T193944Z
LAST-MODIFIED:20251101T193944Z
UID:10006594-1773522000-1773531000@hopsmithchicago.com
SUMMARY:Blackhawks vs Golden Knights
DESCRIPTION:Blackhawks vs Golden Knights at Hopsmith—One Goal\, grab a seat\, and settle in. They say every NHL fan needs ice in their veins—we just pour colder at Hopsmith\, where there’s good food\, great company\, plenty of screens\, and a surplus of beautiful and amazing people to talk to. \n\n\n\n\nReserve A Table\n\n\n\n\n\nDaily Specials at Hop\n\n\n\nMonday – Friday • Open at 11AM\n\n\n\nCash Price \n\n\n\n\n\n\nMonday: 22oz Fatpours $7\n\n\n\nTuesday: New Amsterdam Vodka $7cocktails & shots \n\n\n\nWednesday: High Noon Seltzer All Flavors $7 \n\n\n\nThursday: Wine Bottles & Carafes 1/2 PRICE \n\n\n\nFriday: PBR Tallboy & A Shot $8Choice of Malört\, Jameson\, Jack Daniels\, Fireball or Rumple Minze\n\n\n\n\n\n\n\n			\n				\n			\n		\n\n\n\n\n\n\n\n\n\n\nHopsmith Happy Hour\n\n\n\nMonday – Friday from 4:30PM – 6:30PM\n\n\n\n\nYou’ve had a long day. You deserve a happy hour (or two) once you’re done dealing with… everything. We’ll be here for you either way. \n\n\n\n\n			\n				\n			\n		\n\n\n\nHappy Hour at Hopsmith Chicago\n\n\n\nMonday – Friday from 4:30PM – 6:30PM\n\n\n\nCash Price \n\n\n\n\n$5 You call it call drinks\n\n\n\n$6 Mini Martinis (Classic\, Dirty\, Lemon Drop\, or Espresso)\n\n\n\n$15 Pitchers (Miller Lite\, Bud Light\, Michelob Ultra)\n\n\n\n$20 Appetizer Towers\n\n\n\n\n\nReserve A Table\n\n\n\n\n\nHopsmith Open Late\n\n\n\nSunday – Friday open till 4AM • Saturday open till 5AM\n\n\n\n\n\n\nThis late night bar doesn’t close… until 4AM and 5AM on Saturdays.\n\n\n\nHorrible news\, it’s last call and the bar you’re at is closing. Great news: we’re open for at least another 2 hours if your party bus is off the rails and can’t stop/won’t stop the party.  \n\n\n\nIf you’re lucky\, you’re already at Hopsmith where our late night DJs are already warming up the floor for another legendary late night. \n\n\n\nBottle Service: it’s not for everyone\, but it’ll treat you real nice in the Skylight Lounge. \n\n\n\n\n\n\n\n\n\n\n\n\n\n\n\n\n\n\n\n\n\n\n\nThese are the nights legends are made of: dancing on the bar\, throwing piles of bar napkins into the air from the VIP Skylight Lounge\, shots of something minty that you just watched your best friend drink no questions asked.. Someone even cornered the DJ to play [your song] when no one else would. \n\n\n\n\n\n\n\n\n\n\n\nThat’s Hopsmith late night\, and you’re in the right place. Check out the full DJ calendar below\, or just show up after the lame spot you’re at closes up for the night. We’ll be waiting. \n\n\n\n\n\n\n\n\n\n\n\n\n\n\n\n\n\n\n\nLate Night DJ Schedule\n\n\n\n\n\nHopsmith DJsDateDJ Danny Bridge / Kickn KennyFriday\, March 27thDJ Eves / Devinci SpinnsSaturday\, March 28thDevinci Spinns / JuJuFriday\, April 3rdTouss / Nikki XSaturday\, April 4thDJ Moonlanding / DJ N. HarmonixFriday\, April 10thJuJu / Kick’n KennySaturday\, April 11thDJ N. Harmonix / DJ CherFriday\, April 17thFeel Beale / Nikki XSaturday\, April 18thDJ Moonlanding / Kickn KennyFriday\, April 24thFeel Beale / GudlifeSaturday\, April 25th\n\n\n\n\n\n\n			\n				\n			\n		\n\n\n\n\n\n\n\n\n\n	\n		\n	\n\n\nRelated Events\n\n\n			\n	\n\n	\n\n	\n	\n		\n			HOP LATE NIGHT TIL 4AM with DJ Moonlanding + Kickn Kenny		\n	\n	April 24 @ 8:00 pm – 4:00 am\n\n	\n\n\n\n\n\n\n\nFull Late Night Events Calendar at Hopsmith\n\n\n\n\n\n\n\n\n\n\n\n\n\n\n\n	\n		\n	\n		2 events found.	\n	\n		\n	\n\n		\n	\n\n		\n	\n\n	\n\n\n		\n		\n\n		\n		\n\n	\n	Events\n\n	\n	\n	\n	\n\n	\n	\n		\n	\n		\n	\n\n	\n\n\n		\n	\n		\n	\n\n	\n\n	\n\n\n	\n	Today\n\n	\n	\n		\n							\n					Upcoming				\n				\n					Upcoming				\n					\n				\n	\n\n	\n	\n		Select date.	\n	\n	\n	\n		\n	\n\n	\n	\n		\n	\n\n	\n\n\n	\n	\n	\n\n\n\n\n		\n		\n\n							\n				\n	\n		\n			April 2026		\n	\n\n\n				\n\n	\n	\n		\n			Fri		\n		\n			24		\n	\n\n\n	\n		\n			\n	\n\n\n			\n\n				\n					\n	\n		HOP LATE NIGHT TIL 4AM with DJ Moonlanding + Kickn Kenny	\n\n					\n		\n		April 24 @ 8:00 pm – 4:00 am	\n	\n														\n\n								\n			\n		\n	\n\n\n\n							\n				\n				\n\n	\n	\n		\n			Sat		\n		\n			25		\n	\n\n\n	\n		\n			\n	\n\n\n			\n\n				\n					\n	\n		HOP LATE NIGHT TIL 5AM with Feel Beale + Gudlife	\n\n					\n		\n		April 25 @ 9:00 pm – 5:00 am	\n	\n														\n\n								\n			\n		\n	\n\n\n\n			\n		\n\n		\n	\n		\n	\n		\n	\n\n		\n			Previous Events		\n	\n\n\n		\n	\n		Today	\n\n\n		\n	\n		\n			Next Events		\n		\n	\n\n	\n\n	\n\n\n		\n	\n		\n			\n				Subscribe to calendar			\n			\n	\n\n		\n		\n			\n									\n\n	\n		Google Calendar	\n\n									\n\n	\n		iCalendar	\n\n									\n\n	\n		Outlook 365	\n\n									\n\n	\n		Outlook Live	\n\n									\n\n	\n		Export .ics file	\n\n									\n\n	\n		Export Outlook .ics file
URL:https://hopsmithchicago.com/event/blackhawks-vs-golden-knights-2/
END:VEVENT
BEGIN:VEVENT
DTSTART;TZID=America/Chicago:20260314T210000
DTEND;TZID=America/Chicago:20260315T050000
DTSTAMP:20260419T224703
CREATED:20260224T221541Z
LAST-MODIFIED:20260224T221545Z
UID:10006736-1773522000-1773550800@hopsmithchicago.com
SUMMARY:HOP LATE NIGHT TIL 5AM with Feel Beale + JuJu
DESCRIPTION:This late night bar doesn’t close… until 4AM and 5AM on Saturdays.\n\n\n\nHorrible news\, it’s last call and the bar you’re at is closing. Great news: we’re open for at least another 2 hours if your party bus is off the rails and can’t stop/won’t stop the party.  \n\n\n\nIf you’re lucky\, you’re already at Hopsmith where our late night DJs are already warming up the floor for another legendary late night. \n\n\n\nBottle Service: it’s not for everyone\, but it’ll treat you real nice in the Skylight Lounge. \n\n\n\n\n\n\n\n\n\n\n\n\n\n\n\n\n\n\n\n\n\n\n\nThese are the nights legends are made of: dancing on the bar\, throwing piles of bar napkins into the air from the VIP Skylight Lounge\, shots of something minty that you just watched your best friend drink no questions asked.. Someone even cornered the DJ to play [your song] when no one else would. \n\n\n\n\n\n\n\n\n\n\n\nThat’s Hopsmith late night\, and you’re in the right place. Check out the full DJ calendar below\, or just show up after the lame spot you’re at closes up for the night. We’ll be waiting. \n\n\n\n\n\n\n\n\n\n\n\n\n\n\n\n\n\n\n\nLate Night DJ Schedule\n\n\n\n\n\nHopsmith DJsDateDJ Danny Bridge / Kickn KennyFriday\, March 27thDJ Eves / Devinci SpinnsSaturday\, March 28thDevinci Spinns / JuJuFriday\, April 3rdTouss / Nikki XSaturday\, April 4thDJ Moonlanding / DJ N. HarmonixFriday\, April 10thJuJu / Kick’n KennySaturday\, April 11thDJ N. Harmonix / DJ CherFriday\, April 17thFeel Beale / Nikki XSaturday\, April 18thDJ Moonlanding / Kickn KennyFriday\, April 24thFeel Beale / GudlifeSaturday\, April 25th\n\n\n\n\n\n\n			\n				\n			\n		\n\n\n\n\n\n\n\n\n\n	\n		\n	\n\n\nRelated Events\n\n\n			\n	\n\n	\n\n	\n	\n		\n			HOP LATE NIGHT TIL 4AM with DJ Moonlanding + Kickn Kenny		\n	\n	April 24 @ 8:00 pm – 4:00 am\n\n	\n\n\n\n\n\n\n\nFull Late Night Events Calendar at Hopsmith\n\n\n\n	\n		\n	\n		2 events found.	\n	\n		\n	\n\n		\n	\n\n		\n	\n\n	\n\n\n		\n		\n\n		\n		\n\n	\n	Events\n\n	\n	\n	\n	\n\n	\n	\n		\n	\n		\n	\n\n	\n\n\n		\n	\n		\n	\n\n	\n\n	\n\n\n	\n	Today\n\n	\n	\n		\n							\n					Upcoming				\n				\n					Upcoming				\n					\n				\n	\n\n	\n	\n		Select date.	\n	\n	\n	\n		\n	\n\n	\n	\n		\n	\n\n	\n\n\n	\n	\n	\n\n\n\n\n		\n		\n\n							\n				\n	\n		\n			April 2026		\n	\n\n\n				\n\n	\n	\n		\n			Fri		\n		\n			24		\n	\n\n\n	\n		\n			\n	\n\n\n			\n\n				\n					\n	\n		HOP LATE NIGHT TIL 4AM with DJ Moonlanding + Kickn Kenny	\n\n					\n		\n		April 24 @ 8:00 pm – 4:00 am	\n	\n														\n\n								\n			\n		\n	\n\n\n\n							\n				\n				\n\n	\n	\n		\n			Sat		\n		\n			25		\n	\n\n\n	\n		\n			\n	\n\n\n			\n\n				\n					\n	\n		HOP LATE NIGHT TIL 5AM with Feel Beale + Gudlife	\n\n					\n		\n		April 25 @ 9:00 pm – 5:00 am	\n	\n														\n\n								\n			\n		\n	\n\n\n\n			\n		\n\n		\n	\n		\n	\n		\n	\n\n		\n			Previous Events		\n	\n\n\n		\n	\n		Today	\n\n\n		\n	\n		\n			Next Events		\n		\n	\n\n	\n\n	\n\n\n		\n	\n		\n			\n				Subscribe to calendar			\n			\n	\n\n		\n		\n			\n									\n\n	\n		Google Calendar	\n\n									\n\n	\n		iCalendar	\n\n									\n\n	\n		Outlook 365	\n\n									\n\n	\n		Outlook Live	\n\n									\n\n	\n		Export .ics file	\n\n									\n\n	\n		Export Outlook .ics file
URL:https://hopsmithchicago.com/event/hop-late-night-til-5am-with-feel-beale-juju-2/
ATTACH;FMTTYPE=image/jpeg:https://hopsmithchicago.com/wp-content/uploads/sites/5/2026/02/Hopchi-Late-Night-March-2026.jpg
END:VEVENT
END:VCALENDAR