BEGIN:VCALENDAR
VERSION:2.0
PRODID:-//Hopsmith Tavern - Chicago - ECPv6.15.20//NONSGML v1.0//EN
CALSCALE:GREGORIAN
METHOD:PUBLISH
X-ORIGINAL-URL:https://hopsmithchicago.com
X-WR-CALDESC:Events for Hopsmith Tavern - Chicago
REFRESH-INTERVAL;VALUE=DURATION:PT1H
X-Robots-Tag:noindex
X-PUBLISHED-TTL:PT1H
BEGIN:VTIMEZONE
TZID:America/Chicago
BEGIN:DAYLIGHT
TZOFFSETFROM:-0600
TZOFFSETTO:-0500
TZNAME:CDT
DTSTART:20250309T080000
END:DAYLIGHT
BEGIN:STANDARD
TZOFFSETFROM:-0500
TZOFFSETTO:-0600
TZNAME:CST
DTSTART:20251102T070000
END:STANDARD
BEGIN:DAYLIGHT
TZOFFSETFROM:-0600
TZOFFSETTO:-0500
TZNAME:CDT
DTSTART:20260308T080000
END:DAYLIGHT
BEGIN:STANDARD
TZOFFSETFROM:-0500
TZOFFSETTO:-0600
TZNAME:CST
DTSTART:20261101T070000
END:STANDARD
BEGIN:DAYLIGHT
TZOFFSETFROM:-0600
TZOFFSETTO:-0500
TZNAME:CDT
DTSTART:20270314T080000
END:DAYLIGHT
BEGIN:STANDARD
TZOFFSETFROM:-0500
TZOFFSETTO:-0600
TZNAME:CST
DTSTART:20271107T070000
END:STANDARD
END:VTIMEZONE
BEGIN:VEVENT
DTSTART;TZID=America/Chicago:20260206T110000
DTEND;TZID=America/Chicago:20260222T233000
DTSTAMP:20260419T224750
CREATED:20260116T193910Z
LAST-MODIFIED:20260116T224328Z
UID:10006701-1770375600-1771803000@hopsmithchicago.com
SUMMARY:2026 Winter Olympics Milano-Cortina
DESCRIPTION:Reserve A TABLe\n\n\n\nGame Schedule\n\n\n\nFull Menu\n\n\n\nDRINK DEALS\n\n\n\nThe FOod\n\n\n\nThe Venue\n\n\n\n\nOpening Ceremony on February 6thClosing Ceremony on February 22nd\n\n\n\nThe internet’s already doing that classic Winter Olympics talk\, pretending we only care about hockey 🏒\, then suddenly getting irrationally invested in “wait… why is this person sliding head-first at 80 mph?” (skeleton 🛷)\, “why is everyone whispering?” (curling 🥌)\, and “how did shooting & skiing become the most stressful combo ever?” (biathlon 🎯🎿). \n\n\n\nWe will replay many games. And yes\, perhaps even your weird niche games that only your friend group cares about. When it comes to medal events\, we’ll run selective games WITH sound\, starting with the only acceptable national priority: Let’s go Team USA in Men’s AND Women’s Hockey! \n\n\n\n\nReserve A Table\n\n\n\n\n\n\n\n\n\n\nAlpine Skiing\nFeb. 7th\, Saturday\, Men’s Downhill \n\n\n\nFeb. 8th\, Sunday\, Women’s Downhill \n\n\n\nFeb. 9th\, Monday\, Men’s Team Combined Slalom \n\n\n\nFeb. 10th\, Tuesday\, Women’s Team Combined Slalom \n\n\n\nFeb. 11th\, Wednesday\, Men’s Super-G \n\n\n\nFeb. 12th\, Thursday\, Women’s Super-G \n\n\n\nFeb. 14th\, Saturday\, Men’s Giant Slalom Run 2 \n\n\n\nFeb. 15th\, Sunday\, Women’s Giant Slalom Run 2 \n\n\n\nFeb. 16th\, Monday\, Men’s Slalom Run 2 \n\n\n\nFeb. 18th\, Wednesday\, Women’s Slalom Run 2 \n\n\n\n\nBiathlon\nFeb. 8th\, Sunday\, Mixed Relay 4x6km (Men + Women) \n\n\n\nFeb. 10th\, Tuesday\, Men’s 20km Individual \n\n\n\nFeb. 11th\, Wednesday\, Women’s 15km Individual \n\n\n\nFeb. 13th\, Friday\, Men’s 10km Sprint \n\n\n\nFeb. 14th\, Saturday\, Women’s 7.5km Sprint \n\n\n\nFeb. 15th\, Sunday\, Men’s 12.5km Pursuit \n\n\n\nFeb. 15th\, Sunday\, Women’s 10km Pursuit \n\n\n\nFeb. 17th\, Tuesday\, Men’s 4×7.5km Relay \n\n\n\nFeb. 18th\, Wednesday\, Women’s 4x6km Relay \n\n\n\nFeb. 20th\, Friday\, Men’s 15km Mass Start \n\n\n\nFeb. 21st\, Saturday\, Women’s 12.5km Mass Start \n\n\n\n\nBobsleigh (Bobsled)\nFeb. 16th\, Monday\, Women’s Monobob Heat 4 \n\n\n\nFeb. 17th\, Tuesday\, 2-Man Heat 4 \n\n\n\nFeb. 21st\, Saturday\, 2-Woman Heat 4 \n\n\n\nFeb. 22nd\, Sunday\, 4-Man Heats 4 \n\n\n\n\nCross-Country Skiing\nFeb. 7th\, Saturday\, Women’s 10km + 10km Skiathlon \n\n\n\nFeb. 8th\, Sunday\, Men’s 10km + 10km Skiathlon \n\n\n\nFeb. 10th\, Tuesday\, Women’s Sprint Classic Final \n\n\n\nFeb. 10th\, Tuesday\, Men’s Sprint Classic Final \n\n\n\nFeb. 12th\, Thursday\, Women’s 10km Interval Start Free \n\n\n\nFeb. 13th\, Friday\, Men’s 10km Interval Start Free \n\n\n\nFeb. 14th\, Saturday\, Women’s 4×7.5km Relay \n\n\n\nFeb. 15th\, Sunday\, Men’s 4×7.5km Relay \n\n\n\nFeb. 18th\, Wednesday\, Women’s Team Sprint Free Final \n\n\n\nFeb. 18th\, Wednesday\, Men’s Team Sprint Free Final \n\n\n\nFeb. 21st\, Saturday\, Men’s 50km Mass Start Classic \n\n\n\nFeb. 22nd\, Sunday\, Women’s 50km Mass Start Classic \n\n\n\n\nFigure Skating\nFeb. 8th\, Sunday\, Team Event Men Single Skating (Free Skating) \n\n\n\nFeb. 11th\, Wednesday\, Ice Dance (Free Dance) \n\n\n\nFeb. 13th\, Friday\, Men Single Skating (Free Skating) \n\n\n\nFeb. 16th\, Monday\, Pair Skating (Free Skating) \n\n\n\nFeb. 19th\, Thursday\, Women Single Skating (Free Skating) \n\n\n\n\nFreestyle Skiing\nFeb. 9th\, Monday\, Women’s Freeski Slopestyle Final \n\n\n\nFeb. 10th\, Tuesday\, Men’s Freeski Slopestyle Final \n\n\n\nFeb. 11th\, Wednesday\, Women’s Moguls Final \n\n\n\nFeb. 12th\, Thursday\, Men’s Moguls Final \n\n\n\nFeb. 14th\, Saturday\, Women’s Dual Moguls Final \n\n\n\nFeb. 15th\, Sunday\, Men’s Dual Moguls Final \n\n\n\nFeb. 16th\, Monday\, Women’s Freeski Big Air Final \n\n\n\nFeb. 17th\, Tuesday\, Men’s Freeski Big Air Final \n\n\n\nFeb. 18th\, Wednesday\, Women’s Aerials Final \n\n\n\nFeb. 19th\, Thursday\, Men’s Aerials Final \n\n\n\nFeb. 20th\, Friday\, Women’s Ski Cross Final \n\n\n\nFeb. 20th\, Friday\, Men’s Freeski Halfpipe Final \n\n\n\nFeb. 21st\, Saturday\, Mixed Team Aerials Final \n\n\n\nFeb. 21st\, Saturday\, Men’s Ski Cross Final \n\n\n\nFeb. 21st\, Saturday\, Women’s Freeski Halfpipe Final \n\n\n\n\nLuge\nFeb. 8th\, Sunday\, Men’s Singles Run 4 \n\n\n\nFeb. 10th\, Tuesday\, Women’s Singles Run 4 \n\n\n\nFeb. 11th\, Wednesday\, Men’s Doubles Run 2 \n\n\n\nFeb. 11th\, Wednesday\, Women’s Doubles Run 2 \n\n\n\nFeb. 12th\, Thursday\, Team Relay \n\n\n\n\n\n\nNordic Combined\nFeb. 11th\, Wednesday\, Individual Gundersen 10km (Normal Hill) \n\n\n\nFeb. 17th\, Tuesday\, Individual Gundersen 10km (Large Hill) \n\n\n\nFeb. 19th\, Thursday\, Team Sprint Cross-Country \n\n\n\n\nShort Track Speed Skating\nFeb. 10th\, Tuesday\, Mixed Team Relay Final \n\n\n\nFeb. 12th\, Thursday\, Women’s 500m Final \n\n\n\nFeb. 12th\, Thursday\, Men’s 1000m Final \n\n\n\nFeb. 14th\, Saturday\, Men’s 1500m Final \n\n\n\nFeb. 16th\, Monday\, Women’s 1000m Final \n\n\n\nFeb. 18th\, Wednesday\, Men’s 500m Final \n\n\n\nFeb. 18th\, Wednesday\, Women’s 3000m Relay Final \n\n\n\nFeb. 20th\, Friday\, Women’s 1500m Final \n\n\n\nFeb. 20th\, Friday\, Men’s 5000m Relay Final \n\n\n\n\nSkeleton\nFeb. 13th\, Friday\, Men’s Heat \n\n\n\nFeb. 14th\, Saturday\, Women’s Heat \n\n\n\nFeb. 15th\, Sunday\, Mixed Team \n\n\n\n\nSki Jumping\nFeb. 7th\, Saturday\, Women’s Individual (Normal Hill) \n\n\n\nFeb. 9th\, Monday\, Men’s Individual (Normal Hill) \n\n\n\nFeb. 10th\, Tuesday\, Mixed Team Final \n\n\n\nFeb. 14th\, Saturday\, Men’s Individual (Large Hill) \n\n\n\nFeb. 15th\, Sunday\, Women’s Individual (Large Hill) \n\n\n\nFeb. 16th\, Monday\, Men’s Super Team Final \n\n\n\n\nSki Mountaineering\nFeb. 19th\, Thursday\, Women’s Sprint Final \n\n\n\nFeb. 19th\, Thursday\, Men’s Sprint Final \n\n\n\nFeb. 21st\, Saturday\, Mixed Relay \n\n\n\n\nSnowboard\nFeb. 7th\, Saturday\, Men’s Big Air Final \n\n\n\nFeb. 8th\, Sunday\, Women’s Parallel Giant Slalom Final \n\n\n\nFeb. 8th\, Sunday\, Men’s Parallel Giant Slalom Final \n\n\n\nFeb. 9th\, Monday\, Women’s Big Air Final \n\n\n\nFeb. 12th\, Thursday\, Men’s Snowboard Cross Final \n\n\n\nFeb. 12th\, Thursday\, Women’s Halfpipe Final \n\n\n\nFeb. 13th\, Friday\, Women’s Snowboard Cross Final \n\n\n\nFeb. 13th\, Friday\, Men’s Halfpipe Final \n\n\n\nFeb. 15th\, Sunday\, Mixed Team Snowboard Cross Final \n\n\n\nFeb. 17th\, Tuesday\, Women’s Slopestyle Final \n\n\n\nFeb. 18th\, Wednesday\, Men’s Slopestyle Final \n\n\n\n\nSpeed Skating\nFeb. 7th\, Saturday\, Women’s 3000m Final \n\n\n\nFeb. 8th\, Sunday\, Men’s 5000m Final \n\n\n\nFeb. 9th\, Monday\, Women’s 1000m Final \n\n\n\nFeb. 11th\, Wednesday\, Men’s 1000m Final \n\n\n\nFeb. 12th\, Thursday\, Women’s 5000m Final \n\n\n\nFeb. 13th\, Friday\, Men’s 10000m Final \n\n\n\nFeb. 14th\, Saturday\, Men’s 500m Final \n\n\n\nFeb. 15th\, Sunday\, Women’s 500m Final \n\n\n\nFeb. 17th\, Tuesday\, Men’s Team Pursuit Finals \n\n\n\nFeb. 17th\, Tuesday\, Women’s Team Pursuit Finals \n\n\n\nFeb. 19th\, Thursday\, Men’s 1500m Final \n\n\n\nFeb. 20th\, Friday\, Women’s 1500m Final \n\n\n\nFeb. 21st\, Saturday\, Men’s Mass Start Final \n\n\n\nFeb. 21st\, Saturday\, Women’s Mass Start Final \n\n\n\n\n\n\nCurling (Team USA included)\nFeb. 5th\, Thursday\, Mixed Doubles Round Robin Session 2 (USA vs NOR) \n\n\n\nFeb. 5th\, Thursday\, Mixed Doubles Round Robin Session 3 (USA vs SUI) \n\n\n\nFeb. 6th\, Friday\, Mixed Doubles Round Robin Session 5 (USA vs CAN) \n\n\n\nFeb. 6th\, Friday\, Mixed Doubles Round Robin Session 6 (USA vs CZE) \n\n\n\nFeb. 7th\, Saturday\, Mixed Doubles Round Robin Session 8 (USA vs GBR) \n\n\n\nFeb. 7th\, Saturday\, Mixed Doubles Round Robin Session 9 (USA vs KOR) \n\n\n\nFeb. 8th\, Sunday\, Mixed Doubles Round Robin Session 11 (USA vs EST) \n\n\n\nFeb. 8th\, Sunday\, Mixed Doubles Round Robin Session 12 (USA vs SWE) \n\n\n\nFeb. 9th\, Monday\, Mixed Doubles Round Robin Session 13 (USA vs ITA) \n\n\n\nFeb. 10th\, Tuesday\, Mixed Doubles Bronze Medal Game \n\n\n\nFeb. 10th\, Tuesday\, Mixed Doubles Gold Medal Game \n\n\n\nFeb. 11th\, Wednesday\, Men’s Round Robin Session 1 (USA vs GBR) \n\n\n\nFeb. 12th\, Thursday\, Women’s Round Robin Session 1 (USA vs KOR) \n\n\n\nFeb. 12th\, Thursday\, Women’s Round Robin Session 2 (USA vs SWE) \n\n\n\nFeb. 13th\, Friday\, Men’s Round Robin Session 3 (USA vs NOR) \n\n\n\nFeb. 13th\, Friday\, Women’s Round Robin Session 3 (USA vs CAN) \n\n\n\nFeb. 13th\, Friday\, Men’s Round Robin Session 4 (USA vs SUI) \n\n\n\nFeb. 14th\, Saturday\, Men’s Round Robin Session 5 (USA vs SWE) \n\n\n\nFeb. 14th\, Saturday\, Women’s Round Robin Session 5 (USA vs JPN) \n\n\n\nFeb. 15th\, Sunday\, Women’s Round Robin Session 6 (USA vs CHN) \n\n\n\nFeb. 15th\, Sunday\, Men’s Round Robin Session 7 (USA vs CAN) \n\n\n\nFeb. 16th\, Monday\, Men’s Round Robin Session 8 (USA vs ITA) \n\n\n\nFeb. 16th\, Monday\, Women’s Round Robin Session 8 (USA vs ITA) \n\n\n\nFeb. 17th\, Tuesday\, Men’s Round Robin Session 9 (USA vs CHN) \n\n\n\nFeb. 17th\, Tuesday\, Women’s Round Robin Session 9 (USA vs DEN) \n\n\n\nFeb. 18th\, Wednesday\, Women’s Round Robin Session 10 (USA vs GBR) \n\n\n\nFeb. 18th\, Wednesday\, Men’s Round Robin Session 11 (USA vs CZE) \n\n\n\nFeb. 19th\, Thursday\, Men’s Round Robin Session 12 (USA vs GER) \n\n\n\nFeb. 19th\, Thursday\, Women’s Round Robin Session 12 (USA vs SUI) \n\n\n\nFeb. 20th\, Friday\, Men’s Bronze Medal Game \n\n\n\nFeb. 21st\, Saturday\, Women’s Bronze Medal Game \n\n\n\nFeb. 21st\, Saturday\, Men’s Gold Medal Game \n\n\n\nFeb. 22nd\, Sunday\, Women’s Gold Medal Game \n\n\n\n\n\n\n\n\nIce Hockey\n\n\n\nDateGameFeb. 5th\, ThursdayWomen’s Tournament (USA vs CZE)Feb. 7th\, SaturdayWomen’s Tournament (USA vs FIN)Feb. 9th\, MondayWomen’s Tournament (SUI vs USA)Feb. 10th\, TuesdayWomen’s Tournament (CAN vs USA)Feb. 12th\, ThursdayMen’s Tournament (USA vs LAT)Feb. 14th\, SaturdayMen’s Tournament (DEN vs USA)Feb. 15th\, SundayMen’s Tournament (GER vs USA)Feb. 19th\, ThursdayWomen’s Bronze Medal GameFeb. 19th\, ThursdayWomen’s Gold Medal GameFeb. 21st\, SaturdayMen’s Bronze Medal GameFeb. 22nd\, SundayMen’s Gold Medal Game\n\n\n\n\nReserve A Table\n\n\n\n\n\n\n\n\n\nDaily Specials at Hop\n\n\n\nMonday – Friday • Open at 11AM\n\n\n\nCash Price \n\n\n\n\n\n\nMonday: 22oz Fatpours $7\n\n\n\nTuesday: New Amsterdam Vodka $7cocktails & shots \n\n\n\nWednesday: High Noon Seltzer All Flavors $7 \n\n\n\nThursday: Wine Bottles & Carafes 1/2 PRICE \n\n\n\nFriday: PBR Tallboy & A Shot $8Choice of Malört\, Jameson\, Jack Daniels\, Fireball or Rumple Minze\n\n\n\n\n\n\n\n			\n				\n			\n		\n\n\n\n\n\n\n\n\n\n\nHopsmith Happy Hour\n\n\n\nMonday – Friday from 4:30PM – 6:30PM\n\n\n\n\nYou’ve had a long day. You deserve a happy hour (or two) once you’re done dealing with… everything. We’ll be here for you either way. \n\n\n\n\n			\n				\n			\n		\n\n\n\nHappy Hour at Hopsmith Chicago\n\n\n\nMonday – Friday from 4:30PM – 6:30PM\n\n\n\nCash Price \n\n\n\n\n$5 You call it call drinks\n\n\n\n$6 Mini Martinis (Classic\, Dirty\, Lemon Drop\, or Espresso)\n\n\n\n$15 Pitchers (Miller Lite\, Bud Light\, Michelob Ultra)\n\n\n\n$20 Appetizer Towers\n\n\n\n\n\nReserve A Table\n\n\n\n\n\n\n\n\n\nHopsmith\, the food\n\n\n\n\n\n\n			\n				\n			\n		\n\n\n\n\n			\n				\n			\n		\n\n\n\n\n			\n				\n			\n		\n\n\n\n\n			\n				\n			\n		\n\n\n\n\n			\n				\n			\n		\n\n\n\n\n			\n				\n			\n		\n\n\n\n\n			\n				\n			\n		\n\n\n\n\n			\n				\n			\n		\n\n\n\n\n			\n				\n			\n		\n\n\n\n\n			\n				\n			\n		\n\n\n\n\n			\n				\n			\n		\n\n\n\n\n			\n				\n			\n		\n\n\n\n\n			\n				\n			\n		\n\n\n\n\n			\n				\n			\n		\n\n\n\n\n			\n				\n			\n		\n\n\n\n\n			\n				\n			\n		\n\n\n\n\n			\n				\n			\n		\n\n\n\n\n			\n				\n			\n		\n\n\n\n\n			\n				\n			\n		\n\n\n\n\n			\n				\n			\n		\n\n\n\n\n			\n				\n			\n		\n\n\n\n\n\n\n\n\n\nHopsmith\, the venue\n\n\n\n\n\n			\n				\n			\n		\n\n\n\n\n			\n				\n			\n		\n\n\n\n\n			\n				\n			\n		\n\n\n\n\n			\n				\n			\n		\n\n\n\n\n			\n				\n			\n		\n\n\n\n\n			\n				\n			\n		\n\n\n\n\n			\n				\n			\n		\n\n\n\n\n			\n				\n			\n		\n\n\n\n\n			\n				\n			\n		\n\n\n\n\n			\n				\n			\n		\n\n\n\n\n			\n				\n			\n		\n\n\n\n\n			\n				\n			\n		\n\n\n\n\n			\n				\n			\n		\n\n\n\n\n			\n				\n			\n		\n\n\n\n\n			\n				\n			\n		\n\n\n\n\n\n\n\n\n\n\n\n\n\n\n\n\n\n\n\n\n\n\n\n\n\n\n\n\n\n\n\n\nHopsmith Open Late\n\n\n\nSunday – Friday open till 4AM • Saturday open till 5AM\n\n\n\n\n\n\nThis late night bar doesn’t close… until 4AM and 5AM on Saturdays.\n\n\n\nHorrible news\, it’s last call and the bar you’re at is closing. Great news: we’re open for at least another 2 hours if your party bus is off the rails and can’t stop/won’t stop the party.  \n\n\n\nIf you’re lucky\, you’re already at Hopsmith where our late night DJs are already warming up the floor for another legendary late night. \n\n\n\nBottle Service: it’s not for everyone\, but it’ll treat you real nice in the Skylight Lounge. \n\n\n\n\n\n\n\n\n\n\n\n\n\n\n\n\n\n\n\n\n\n\n\nThese are the nights legends are made of: dancing on the bar\, throwing piles of bar napkins into the air from the VIP Skylight Lounge\, shots of something minty that you just watched your best friend drink no questions asked.. Someone even cornered the DJ to play [your song] when no one else would. \n\n\n\n\n\n\n\n\n\n\n\nThat’s Hopsmith late night\, and you’re in the right place. Check out the full DJ calendar below\, or just show up after the lame spot you’re at closes up for the night. We’ll be waiting. \n\n\n\n\n\n\n\n\n\n\n\n\n\n\n\n\n\n\n\nLate Night DJ Schedule\n\n\n\n\n\nHopsmith DJsDateDJ Danny Bridge / Kickn KennyFriday\, March 27thDJ Eves / Devinci SpinnsSaturday\, March 28thDevinci Spinns / JuJuFriday\, April 3rdTouss / Nikki XSaturday\, April 4thDJ Moonlanding / DJ N. HarmonixFriday\, April 10thJuJu / Kick’n KennySaturday\, April 11thDJ N. Harmonix / DJ CherFriday\, April 17thFeel Beale / Nikki XSaturday\, April 18thDJ Moonlanding / Kickn KennyFriday\, April 24thFeel Beale / GudlifeSaturday\, April 25th\n\n\n\n\n\n\n			\n				\n			\n		\n\n\n\n\n\n\n\n\n\n	\n		\n	\n\n\nRelated Events\n\n\n			\n	\n\n	\n\n	\n	\n		\n			HOP LATE NIGHT TIL 4AM with DJ Moonlanding + Kickn Kenny		\n	\n	April 24 @ 8:00 pm – 4:00 am\n\n	\n\n\n\n\n\n\n\nFull Late Night Events Calendar at Hopsmith\n\n\n\n\n\n\n\n\n\n\n\n\n\n\n\n	\n		\n	\n		2 events found.	\n	\n		\n	\n\n		\n	\n\n		\n	\n\n	\n\n\n		\n		\n\n		\n		\n\n	\n	Events\n\n	\n	\n	\n	\n\n	\n	\n		\n	\n		\n	\n\n	\n\n\n		\n	\n		\n	\n\n	\n\n	\n\n\n	\n	Today\n\n	\n	\n		\n							\n					Upcoming				\n				\n					Upcoming				\n					\n				\n	\n\n	\n	\n		Select date.	\n	\n	\n	\n		\n	\n\n	\n	\n		\n	\n\n	\n\n\n	\n	\n	\n\n\n\n\n		\n		\n\n							\n				\n	\n		\n			April 2026		\n	\n\n\n				\n\n	\n	\n		\n			Fri		\n		\n			24		\n	\n\n\n	\n		\n			\n	\n\n\n			\n\n				\n					\n	\n		HOP LATE NIGHT TIL 4AM with DJ Moonlanding + Kickn Kenny	\n\n					\n		\n		April 24 @ 8:00 pm – 4:00 am	\n	\n														\n\n								\n			\n		\n	\n\n\n\n							\n				\n				\n\n	\n	\n		\n			Sat		\n		\n			25		\n	\n\n\n	\n		\n			\n	\n\n\n			\n\n				\n					\n	\n		HOP LATE NIGHT TIL 5AM with Feel Beale + Gudlife	\n\n					\n		\n		April 25 @ 9:00 pm – 5:00 am	\n	\n														\n\n								\n			\n		\n	\n\n\n\n			\n		\n\n		\n	\n		\n	\n		\n	\n\n		\n			Previous Events		\n	\n\n\n		\n	\n		Today	\n\n\n		\n	\n		\n			Next Events		\n		\n	\n\n	\n\n	\n\n\n		\n	\n		\n			\n				Subscribe to calendar			\n			\n	\n\n		\n		\n			\n									\n\n	\n		Google Calendar	\n\n									\n\n	\n		iCalendar	\n\n									\n\n	\n		Outlook 365	\n\n									\n\n	\n		Outlook Live	\n\n									\n\n	\n		Export .ics file	\n\n									\n\n	\n		Export Outlook .ics file
URL:https://hopsmithchicago.com/event/2026-winter-olympics-milano-cortina/
END:VEVENT
BEGIN:VEVENT
DTSTART;TZID=America/Chicago:20260218T110000
DTEND;TZID=America/Chicago:20260218T233000
DTSTAMP:20260419T224751
CREATED:20250430T212104Z
LAST-MODIFIED:20250501T164555Z
UID:10005637-1771412400-1771457400@hopsmithchicago.com
SUMMARY:Wednesday Drink Special: $7 High Noon Seltzers
DESCRIPTION:Midweek’s looking a lot better with $7 High Noon Seltzers at Hopsmith—all day\, every Wednesday. Real vodka\, real juice\, real reason to pretend it’s already the weekend. Grab a cold one\, claim a barstool\, and settle in for a few hours of productive avoidance. \n\n\n\n\n\n\n\n\n\nDaily Specials at Hop\n\n\n\nMonday – Friday • Open at 11AM\n\n\n\nCash Price \n\n\n\n\n\n\nMonday: 22oz Fatpours $7\n\n\n\nTuesday: New Amsterdam Vodka $7cocktails & shots \n\n\n\nWednesday: High Noon Seltzer All Flavors $7 \n\n\n\nThursday: Wine Bottles & Carafes 1/2 PRICE \n\n\n\nFriday: PBR Tallboy & A Shot $8Choice of Malört\, Jameson\, Jack Daniels\, Fireball or Rumple Minze\n\n\n\n\n\n\n\n			\n				\n			\n		\n\n\n\n\n\n\n\nYou’ve had a long day. You deserve a happy hour (or two) once you’re done dealing with… everything. We’ll be here for you either way. \n\n\n\n\n			\n				\n			\n		\n\n\n\nHappy Hour at Hopsmith Chicago\n\n\n\nMonday – Friday from 4:30PM – 6:30PM\n\n\n\nCash Price \n\n\n\n\n$5 You call it call drinks\n\n\n\n$6 Mini Martinis (Classic\, Dirty\, Lemon Drop\, or Espresso)\n\n\n\n$15 Pitchers (Miller Lite\, Bud Light\, Michelob Ultra)\n\n\n\n$20 Appetizer Towers\n\n\n\n\n\nReserve A Table
URL:https://hopsmithchicago.com/event/wednesday-drink-special-7-high-noon-seltzers/2026-02-18/
LOCATION:Hopsmith Tavern Chicago\, 15 W. Division St.\, Chicago\, IL\, 60610\, United States
END:VEVENT
BEGIN:VEVENT
DTSTART;TZID=America/Chicago:20260218T163000
DTEND;TZID=America/Chicago:20260218T183000
DTSTAMP:20260419T224751
CREATED:20250502T151318Z
LAST-MODIFIED:20250502T151326Z
UID:10000580-1771432200-1771439400@hopsmithchicago.com
SUMMARY:Happy Hour in Gold Coast at Hopsmith
DESCRIPTION:You’ve had a long day. You deserve a happy hour (or two) once you’re done dealing with… everything. We’ll be here for you either way. \n\n\n\n\n			\n				\n			\n		\n\n\n\nHappy Hour at Hopsmith Chicago\n\n\n\nMonday – Friday from 4:30PM – 6:30PM\n\n\n\nCash Price \n\n\n\n\n$5 You call it call drinks\n\n\n\n$6 Mini Martinis (Classic\, Dirty\, Lemon Drop\, or Espresso)\n\n\n\n$15 Pitchers (Miller Lite\, Bud Light\, Michelob Ultra)\n\n\n\n$20 Appetizer Towers\n\n\n\n\n\nReserve A Table\n\n\n\n\n\n\nHappy Hour isn’t the only thing we’re doing–we also have daily drink specials every damn day. Stop in for Happy Hour\, daily drink deals\, and the friendliest staff on the street Monday through Friday all year round. \n\n\n\n\n\nDaily Specials at Hop\n\n\n\nMonday – Friday • Open at 11AM\n\n\n\nCash Price \n\n\n\n\n\n\nMonday: 22oz Fatpours $7\n\n\n\nTuesday: New Amsterdam Vodka $7cocktails & shots \n\n\n\nWednesday: High Noon Seltzer All Flavors $7 \n\n\n\nThursday: Wine Bottles & Carafes 1/2 PRICE \n\n\n\nFriday: PBR Tallboy & A Shot $8Choice of Malört\, Jameson\, Jack Daniels\, Fireball or Rumple Minze
URL:https://hopsmithchicago.com/event/happy-hour-in-gold-coast-at-hopsmith-2/2026-02-18/
LOCATION:Hopsmith Tavern Chicago\, 15 W. Division St.\, Chicago\, IL\, 60610\, United States
ATTACH;FMTTYPE=image/jpeg:https://hopsmithchicago.com/wp-content/uploads/sites/5/2025/02/Hopchi-Happy-Hour-April-2024-Upshow.jpg
END:VEVENT
END:VCALENDAR